View In:
ArcGIS JavaScript
ArcGIS Online Map Viewer
ArcGIS Earth
ArcMap
View Footprint In:
ArcGIS Online Map Viewer
Service Description: gmd4_krigRasterT_S_2026Final
Name: gmd4_krigRasterT_S_2026Final
Description:
Single Fused Map Cache: false
Extent:
XMin: 328470.50966213644
YMin: 2146464.8391551375
XMax: 1123110.5096621364
YMax: 2542464.8391551375
Spatial Reference: 103050
(6469)
Initial Extent:
XMin: 328470.50966213644
YMin: 2146464.8391551375
XMax: 1123110.5096621364
YMax: 2542464.8391551375
Spatial Reference: 103050
(6469)
Full Extent:
XMin: 328470.50966213644
YMin: 2146464.8391551375
XMax: 1123110.5096621364
YMax: 2542464.8391551375
Spatial Reference: 103050
(6469)
Pixel Size X: 2640.0
Pixel Size Y: 2640.0
Band Count: 2
Pixel Type: F32
RasterFunction Infos: {"rasterFunctionInfos": [{
"name": "None",
"description": "",
"help": ""
}]}
Mensuration Capabilities: Basic
Has Histograms: true
Has Colormap: false
Has Multi Dimensions : false
Rendering Rule:
Min Scale: 0
Max Scale: 0
Copyright Text:
Service Data Type: esriImageServiceDataTypeGeneric
Min Values: 59.16763687133789, 0
Max Values: 32977.80859375, 0.22499999403953552
Mean Values: 5873.58005646803, 0.1795778066801506
Standard Deviation Values: 6272.1515808700315, 0.014178196966579864
Object ID Field:
Fields:
None
Default Mosaic Method: Center
Allowed Mosaic Methods:
SortField:
SortValue: null
Mosaic Operator: First
Default Compression Quality: 75
Default Resampling Method: Bilinear
Max Record Count: null
Max Image Height: 4100
Max Image Width: 15000
Max Download Image Count: null
Max Mosaic Image Count: null
Allow Raster Function: true
Allow Copy: true
Allow Analysis: true
Allow Compute TiePoints: false
Supports Statistics: false
Supports Advanced Queries: false
Use StandardizedQueries: true
Raster Type Infos:
Name: Raster Dataset
Description: Supports all ArcGIS Raster Datasets
Help:
Has Raster Attribute Table: false
Edit Fields Info: null
Ownership Based AccessControl For Rasters: null
Child Resources:
Info
Histograms
Statistics
Key Properties
Legend
Raster Function Infos
Supported Operations:
Export Image
Identify
Measure
Compute Histograms
Compute Statistics Histograms
Get Samples
Compute Class Statistics
Query Boundary
Compute Pixel Location
Compute Angles
Validate
Project