{
 "currentVersion": 10.91,
 "serviceDescription": "gmd4_krigRasterT_S_2026Final",
 "name": "gmd4_krigRasterT_S_2026Final",
 "description": "",
 "extent": {
  "xmin": 328470.50966213644,
  "ymin": 2146464.8391551375,
  "xmax": 1123110.5096621364,
  "ymax": 2542464.8391551375,
  "spatialReference": {
   "wkid": 103050,
   "latestWkid": 6469
  }
 },
 "initialExtent": {
  "xmin": 328470.50966213644,
  "ymin": 2146464.8391551375,
  "xmax": 1123110.5096621364,
  "ymax": 2542464.8391551375,
  "spatialReference": {
   "wkid": 103050,
   "latestWkid": 6469
  }
 },
 "fullExtent": {
  "xmin": 328470.50966213644,
  "ymin": 2146464.8391551375,
  "xmax": 1123110.5096621364,
  "ymax": 2542464.8391551375,
  "spatialReference": {
   "wkid": 103050,
   "latestWkid": 6469
  }
 },
 "hasMultidimensions": false,
 "pixelSizeX": 2640,
 "pixelSizeY": 2640,
 "datasetFormat": "FGDBR",
 "uncompressedSize": 361200,
 "blockWidth": 128,
 "blockHeight": 128,
 "compressionType": "NONE",
 "bandNames": [
  "Band_1",
  "Band_2"
 ],
 "allowCopy": true,
 "allowAnalysis": true,
 "bandCount": 2,
 "pixelType": "F32",
 "minPixelSize": 0,
 "maxPixelSize": 0,
 "copyrightText": "",
 "serviceDataType": "esriImageServiceDataTypeGeneric",
 "serviceSourceType": "esriImageServiceSourceTypeDataset",
 "minValues": [
  59.16763687133789,
  0
 ],
 "maxValues": [
  32977.80859375,
  0.22499999403953552
 ],
 "meanValues": [
  5873.58005646803,
  0.1795778066801506
 ],
 "stdvValues": [
  6272.1515808700315,
  0.014178196966579864
 ],
 "objectIdField": "",
 "fields": [],
 "capabilities": "Image,Metadata,Mensuration",
 "defaultMosaicMethod": "Center",
 "allowedMosaicMethods": "",
 "sortField": "",
 "sortValue": null,
 "sortAscending": true,
 "mosaicOperator": "First",
 "defaultCompressionQuality": 75,
 "defaultResamplingMethod": "Bilinear",
 "maxImageHeight": 4100,
 "maxImageWidth": 15000,
 "allowRasterFunction": true,
 "rasterFunctionInfos": [
  {
   "name": "None",
   "description": "",
   "help": ""
  }
 ],
 "rasterTypeInfos": [
  {
   "name": "Raster Dataset",
   "description": "Supports all ArcGIS Raster Datasets",
   "help": ""
  }
 ],
 "mensurationCapabilities": "Basic",
 "hasHistograms": true,
 "hasColormap": false,
 "hasRasterAttributeTable": false,
 "minScale": 0,
 "maxScale": 0,
 "exportTilesAllowed": false,
 "supportsStatistics": false,
 "supportsAdvancedQueries": false,
 "editFieldsInfo": null,
 "ownershipBasedAccessControlForRasters": null,
 "allowComputeTiePoints": false,
 "useStandardizedQueries": true,
 "advancedQueryCapabilities": {
  "useStandardizedQueries": true,
  "supportsStatistics": false,
  "supportsOrderBy": false,
  "supportsDistinct": false,
  "supportsPagination": false
 },
 "spatialReference": {
  "wkid": 103050,
  "latestWkid": 6469
 }
}
