View In:
ArcGIS JavaScript
ArcGIS Online Map Viewer
ArcGIS Earth
ArcMap
View Footprint In:
ArcGIS Online Map Viewer
Service Description: Kx_Sy_GMD4
Name: Kx_Sy_GMD4
Description:
Single Fused Map Cache: false
Extent:
XMin: 264248.34709621966
YMin: 2117856.0472914726
XMax: 1225208.3470962197
YMax: 2590416.0472914726
Spatial Reference: 103050
(6469)
Initial Extent:
XMin: 264248.34709621966
YMin: 2117856.0472914726
XMax: 1225208.3470962197
YMax: 2590416.0472914726
Spatial Reference: 103050
(6469)
Full Extent:
XMin: 264248.34709621966
YMin: 2117856.0472914726
XMax: 1225208.3470962197
YMax: 2590416.0472914726
Spatial Reference: 103050
(6469)
Pixel Size X: 2640.0
Pixel Size Y: 2640.0
Band Count: 2
Pixel Type: F32
RasterFunction Infos: {"rasterFunctionInfos": [{
"name": "None",
"description": "",
"help": ""
}]}
Mensuration Capabilities: Basic
Has Histograms: true
Has Colormap: false
Has Multi Dimensions : false
Rendering Rule:
Min Scale: 0
Max Scale: 0
Copyright Text:
Service Data Type: esriImageServiceDataTypeGeneric
Min Values: 20.277944564819336, 0.009999999776482582
Max Values: 817.604736328125, 0.11746352165937424
Mean Values: 234.4881398306315, 0.03680194339692645
Standard Deviation Values: 107.59991614786985, 0.023130863209567754
Object ID Field:
Fields:
None
Default Mosaic Method: Center
Allowed Mosaic Methods:
SortField:
SortValue: null
Mosaic Operator: First
Default Compression Quality: 75
Default Resampling Method: Bilinear
Max Record Count: null
Max Image Height: 4100
Max Image Width: 15000
Max Download Image Count: null
Max Mosaic Image Count: null
Allow Raster Function: true
Allow Copy: true
Allow Analysis: true
Allow Compute TiePoints: false
Supports Statistics: false
Supports Advanced Queries: false
Use StandardizedQueries: true
Raster Type Infos:
Name: Raster Dataset
Description: Supports all ArcGIS Raster Datasets
Help:
Has Raster Attribute Table: false
Edit Fields Info: null
Ownership Based AccessControl For Rasters: null
Child Resources:
Info
Histograms
Statistics
Key Properties
Legend
Raster Function Infos
Supported Operations:
Export Image
Identify
Measure
Compute Histograms
Compute Statistics Histograms
Get Samples
Compute Class Statistics
Query Boundary
Compute Pixel Location
Compute Angles
Validate
Project