{
 "currentVersion": 10.91,
 "serviceDescription": "Kx_Sy_GMD4",
 "name": "Kx_Sy_GMD4",
 "description": "",
 "extent": {
  "xmin": 264248.34709621966,
  "ymin": 2117856.0472914726,
  "xmax": 1225208.3470962197,
  "ymax": 2590416.0472914726,
  "spatialReference": {
   "wkid": 103050,
   "latestWkid": 6469
  }
 },
 "initialExtent": {
  "xmin": 264248.34709621966,
  "ymin": 2117856.0472914726,
  "xmax": 1225208.3470962197,
  "ymax": 2590416.0472914726,
  "spatialReference": {
   "wkid": 103050,
   "latestWkid": 6469
  }
 },
 "fullExtent": {
  "xmin": 264248.34709621966,
  "ymin": 2117856.0472914726,
  "xmax": 1225208.3470962197,
  "ymax": 2590416.0472914726,
  "spatialReference": {
   "wkid": 103050,
   "latestWkid": 6469
  }
 },
 "hasMultidimensions": false,
 "pixelSizeX": 2640,
 "pixelSizeY": 2640,
 "datasetFormat": "FGDBR",
 "uncompressedSize": 521248,
 "blockWidth": 128,
 "blockHeight": 128,
 "compressionType": "NONE",
 "bandNames": [
  "Band_1",
  "Band_2"
 ],
 "allowCopy": true,
 "allowAnalysis": true,
 "bandCount": 2,
 "pixelType": "F32",
 "minPixelSize": 0,
 "maxPixelSize": 0,
 "copyrightText": "",
 "serviceDataType": "esriImageServiceDataTypeGeneric",
 "serviceSourceType": "esriImageServiceSourceTypeDataset",
 "minValues": [
  20.277944564819336,
  0.009999999776482582
 ],
 "maxValues": [
  817.604736328125,
  0.11746352165937424
 ],
 "meanValues": [
  234.4881398306315,
  0.03680194339692645
 ],
 "stdvValues": [
  107.59991614786985,
  0.023130863209567754
 ],
 "objectIdField": "",
 "fields": [],
 "capabilities": "Image,Metadata,Mensuration",
 "defaultMosaicMethod": "Center",
 "allowedMosaicMethods": "",
 "sortField": "",
 "sortValue": null,
 "sortAscending": true,
 "mosaicOperator": "First",
 "defaultCompressionQuality": 75,
 "defaultResamplingMethod": "Bilinear",
 "maxImageHeight": 4100,
 "maxImageWidth": 15000,
 "allowRasterFunction": true,
 "rasterFunctionInfos": [
  {
   "name": "None",
   "description": "",
   "help": ""
  }
 ],
 "rasterTypeInfos": [
  {
   "name": "Raster Dataset",
   "description": "Supports all ArcGIS Raster Datasets",
   "help": ""
  }
 ],
 "mensurationCapabilities": "Basic",
 "hasHistograms": true,
 "hasColormap": false,
 "hasRasterAttributeTable": false,
 "minScale": 0,
 "maxScale": 0,
 "exportTilesAllowed": false,
 "supportsStatistics": false,
 "supportsAdvancedQueries": false,
 "editFieldsInfo": null,
 "ownershipBasedAccessControlForRasters": null,
 "allowComputeTiePoints": false,
 "useStandardizedQueries": true,
 "advancedQueryCapabilities": {
  "useStandardizedQueries": true,
  "supportsStatistics": false,
  "supportsOrderBy": false,
  "supportsDistinct": false,
  "supportsPagination": false
 },
 "spatialReference": {
  "wkid": 103050,
  "latestWkid": 6469
 }
}
