View In:
ArcGIS JavaScript
ArcGIS Online Map Viewer
ArcGIS Earth
ArcMap
View Footprint In:
ArcGIS Online Map Viewer
Service Description: Kx_Sy_GMD3
Name: Kx_Sy_GMD3
Description:
Single Fused Map Cache: false
Extent:
XMin: 245167.35835538805
YMin: 1404429.8412727267
XMax: 1047727.358355388
YMax: 1948269.8412727267
Spatial Reference: 103050
(6469)
Initial Extent:
XMin: 245167.35835538805
YMin: 1404429.8412727267
XMax: 1047727.358355388
YMax: 1948269.8412727267
Spatial Reference: 103050
(6469)
Full Extent:
XMin: 245167.35835538805
YMin: 1404429.8412727267
XMax: 1047727.358355388
YMax: 1948269.8412727267
Spatial Reference: 103050
(6469)
Pixel Size X: 2640.0
Pixel Size Y: 2640.0
Band Count: 2
Pixel Type: F32
RasterFunction Infos: {"rasterFunctionInfos": [{
"name": "None",
"description": "",
"help": ""
}]}
Mensuration Capabilities: Basic
Has Histograms: true
Has Colormap: false
Has Multi Dimensions : false
Rendering Rule:
Min Scale: 0
Max Scale: 0
Copyright Text:
Service Data Type: esriImageServiceDataTypeGeneric
Min Values: 0.946694016456604, 0.005000128410756588
Max Values: 965.8532104492188, 0.1286316215991974
Mean Values: 140.10252232074936, 0.05543493779599463
Standard Deviation Values: 107.4857994907709, 0.024416998576192995
Object ID Field:
Fields:
None
Default Mosaic Method: Center
Allowed Mosaic Methods:
SortField:
SortValue: null
Mosaic Operator: First
Default Compression Quality: 75
Default Resampling Method: Bilinear
Max Record Count: null
Max Image Height: 4100
Max Image Width: 15000
Max Download Image Count: null
Max Mosaic Image Count: null
Allow Raster Function: true
Allow Copy: true
Allow Analysis: true
Allow Compute TiePoints: false
Supports Statistics: false
Supports Advanced Queries: false
Use StandardizedQueries: true
Raster Type Infos:
Name: Raster Dataset
Description: Supports all ArcGIS Raster Datasets
Help:
Has Raster Attribute Table: false
Edit Fields Info: null
Ownership Based AccessControl For Rasters: null
Child Resources:
Info
Histograms
Statistics
Key Properties
Legend
Raster Function Infos
Supported Operations:
Export Image
Identify
Measure
Compute Histograms
Compute Statistics Histograms
Get Samples
Compute Class Statistics
Query Boundary
Compute Pixel Location
Compute Angles
Validate
Project