{
 "currentVersion": 10.91,
 "serviceDescription": "Kx_Sy_GMD3",
 "name": "Kx_Sy_GMD3",
 "description": "",
 "extent": {
  "xmin": 245167.35835538805,
  "ymin": 1404429.8412727267,
  "xmax": 1047727.358355388,
  "ymax": 1948269.8412727267,
  "spatialReference": {
   "wkid": 103050,
   "latestWkid": 6469
  }
 },
 "initialExtent": {
  "xmin": 245167.35835538805,
  "ymin": 1404429.8412727267,
  "xmax": 1047727.358355388,
  "ymax": 1948269.8412727267,
  "spatialReference": {
   "wkid": 103050,
   "latestWkid": 6469
  }
 },
 "fullExtent": {
  "xmin": 245167.35835538805,
  "ymin": 1404429.8412727267,
  "xmax": 1047727.358355388,
  "ymax": 1948269.8412727267,
  "spatialReference": {
   "wkid": 103050,
   "latestWkid": 6469
  }
 },
 "hasMultidimensions": false,
 "pixelSizeX": 2640,
 "pixelSizeY": 2640,
 "datasetFormat": "FGDBR",
 "uncompressedSize": 500992,
 "blockWidth": 128,
 "blockHeight": 128,
 "compressionType": "NONE",
 "bandNames": [
  "Band_1",
  "Band_2"
 ],
 "allowCopy": true,
 "allowAnalysis": true,
 "bandCount": 2,
 "pixelType": "F32",
 "minPixelSize": 0,
 "maxPixelSize": 0,
 "copyrightText": "",
 "serviceDataType": "esriImageServiceDataTypeGeneric",
 "serviceSourceType": "esriImageServiceSourceTypeDataset",
 "minValues": [
  0.946694016456604,
  0.005000128410756588
 ],
 "maxValues": [
  965.8532104492188,
  0.1286316215991974
 ],
 "meanValues": [
  140.10252232074936,
  0.05543493779599463
 ],
 "stdvValues": [
  107.4857994907709,
  0.024416998576192995
 ],
 "objectIdField": "",
 "fields": [],
 "capabilities": "Image,Metadata,Mensuration",
 "defaultMosaicMethod": "Center",
 "allowedMosaicMethods": "",
 "sortField": "",
 "sortValue": null,
 "sortAscending": true,
 "mosaicOperator": "First",
 "defaultCompressionQuality": 75,
 "defaultResamplingMethod": "Bilinear",
 "maxImageHeight": 4100,
 "maxImageWidth": 15000,
 "allowRasterFunction": true,
 "rasterFunctionInfos": [
  {
   "name": "None",
   "description": "",
   "help": ""
  }
 ],
 "rasterTypeInfos": [
  {
   "name": "Raster Dataset",
   "description": "Supports all ArcGIS Raster Datasets",
   "help": ""
  }
 ],
 "mensurationCapabilities": "Basic",
 "hasHistograms": true,
 "hasColormap": false,
 "hasRasterAttributeTable": false,
 "minScale": 0,
 "maxScale": 0,
 "exportTilesAllowed": false,
 "supportsStatistics": false,
 "supportsAdvancedQueries": false,
 "editFieldsInfo": null,
 "ownershipBasedAccessControlForRasters": null,
 "allowComputeTiePoints": false,
 "useStandardizedQueries": true,
 "advancedQueryCapabilities": {
  "useStandardizedQueries": true,
  "supportsStatistics": false,
  "supportsOrderBy": false,
  "supportsDistinct": false,
  "supportsPagination": false
 },
 "spatialReference": {
  "wkid": 103050,
  "latestWkid": 6469
 }
}
