View In:
ArcGIS JavaScript
ArcGIS Online Map Viewer
ArcGIS Earth
ArcMap
View Footprint In:
ArcGIS Online Map Viewer
Service Description: Kx_Sy_GMD1
Name: Kx_Sy_GMD1
Description:
Single Fused Map Cache: false
Extent:
XMin: 257061.4841733873
YMin: 1867738.756188482
XMax: 845781.4841733873
YMax: 2184538.756188482
Spatial Reference: 103050
(6469)
Initial Extent:
XMin: 257061.4841733873
YMin: 1867738.756188482
XMax: 845781.4841733873
YMax: 2184538.756188482
Spatial Reference: 103050
(6469)
Full Extent:
XMin: 257061.4841733873
YMin: 1867738.756188482
XMax: 845781.4841733873
YMax: 2184538.756188482
Spatial Reference: 103050
(6469)
Pixel Size X: 2640.0
Pixel Size Y: 2640.0
Band Count: 2
Pixel Type: F32
RasterFunction Infos: {"rasterFunctionInfos": [{
"name": "None",
"description": "",
"help": ""
}]}
Mensuration Capabilities: Basic
Has Histograms: true
Has Colormap: false
Has Multi Dimensions : false
Rendering Rule:
Min Scale: 0
Max Scale: 0
Copyright Text:
Service Data Type: esriImageServiceDataTypeGeneric
Min Values: 2.7588913440704346, 0.05414732173085213
Max Values: 231.2416229248047, 0.24025730788707733
Mean Values: 70.23356300216427, 0.1398173888072707
Standard Deviation Values: 36.374249992617585, 0.04403040139259049
Object ID Field:
Fields:
None
Default Mosaic Method: Center
Allowed Mosaic Methods:
SortField:
SortValue: null
Mosaic Operator: First
Default Compression Quality: 75
Default Resampling Method: Bilinear
Max Record Count: null
Max Image Height: 4100
Max Image Width: 15000
Max Download Image Count: null
Max Mosaic Image Count: null
Allow Raster Function: true
Allow Copy: true
Allow Analysis: true
Allow Compute TiePoints: false
Supports Statistics: false
Supports Advanced Queries: false
Use StandardizedQueries: true
Raster Type Infos:
Name: Raster Dataset
Description: Supports all ArcGIS Raster Datasets
Help:
Has Raster Attribute Table: false
Edit Fields Info: null
Ownership Based AccessControl For Rasters: null
Child Resources:
Info
Histograms
Statistics
Key Properties
Legend
Raster Function Infos
Supported Operations:
Export Image
Identify
Measure
Compute Histograms
Compute Statistics Histograms
Get Samples
Compute Class Statistics
Query Boundary
Compute Pixel Location
Compute Angles
Validate
Project