{
 "currentVersion": 10.91,
 "serviceDescription": "Kx_Sy_GMD1",
 "name": "Kx_Sy_GMD1",
 "description": "",
 "extent": {
  "xmin": 257061.4841733873,
  "ymin": 1867738.756188482,
  "xmax": 845781.4841733873,
  "ymax": 2184538.756188482,
  "spatialReference": {
   "wkid": 103050,
   "latestWkid": 6469
  }
 },
 "initialExtent": {
  "xmin": 257061.4841733873,
  "ymin": 1867738.756188482,
  "xmax": 845781.4841733873,
  "ymax": 2184538.756188482,
  "spatialReference": {
   "wkid": 103050,
   "latestWkid": 6469
  }
 },
 "fullExtent": {
  "xmin": 257061.4841733873,
  "ymin": 1867738.756188482,
  "xmax": 845781.4841733873,
  "ymax": 2184538.756188482,
  "spatialReference": {
   "wkid": 103050,
   "latestWkid": 6469
  }
 },
 "hasMultidimensions": false,
 "pixelSizeX": 2640,
 "pixelSizeY": 2640,
 "datasetFormat": "FGDBR",
 "uncompressedSize": 214080,
 "blockWidth": 128,
 "blockHeight": 128,
 "compressionType": "NONE",
 "bandNames": [
  "Band_1",
  "Band_2"
 ],
 "allowCopy": true,
 "allowAnalysis": true,
 "bandCount": 2,
 "pixelType": "F32",
 "minPixelSize": 0,
 "maxPixelSize": 0,
 "copyrightText": "",
 "serviceDataType": "esriImageServiceDataTypeGeneric",
 "serviceSourceType": "esriImageServiceSourceTypeDataset",
 "minValues": [
  2.7588913440704346,
  0.05414732173085213
 ],
 "maxValues": [
  231.2416229248047,
  0.24025730788707733
 ],
 "meanValues": [
  70.23356300216427,
  0.1398173888072707
 ],
 "stdvValues": [
  36.374249992617585,
  0.04403040139259049
 ],
 "objectIdField": "",
 "fields": [],
 "capabilities": "Image,Metadata,Mensuration",
 "defaultMosaicMethod": "Center",
 "allowedMosaicMethods": "",
 "sortField": "",
 "sortValue": null,
 "sortAscending": true,
 "mosaicOperator": "First",
 "defaultCompressionQuality": 75,
 "defaultResamplingMethod": "Bilinear",
 "maxImageHeight": 4100,
 "maxImageWidth": 15000,
 "allowRasterFunction": true,
 "rasterFunctionInfos": [
  {
   "name": "None",
   "description": "",
   "help": ""
  }
 ],
 "rasterTypeInfos": [
  {
   "name": "Raster Dataset",
   "description": "Supports all ArcGIS Raster Datasets",
   "help": ""
  }
 ],
 "mensurationCapabilities": "Basic",
 "hasHistograms": true,
 "hasColormap": false,
 "hasRasterAttributeTable": false,
 "minScale": 0,
 "maxScale": 0,
 "exportTilesAllowed": false,
 "supportsStatistics": false,
 "supportsAdvancedQueries": false,
 "editFieldsInfo": null,
 "ownershipBasedAccessControlForRasters": null,
 "allowComputeTiePoints": false,
 "useStandardizedQueries": true,
 "advancedQueryCapabilities": {
  "useStandardizedQueries": true,
  "supportsStatistics": false,
  "supportsOrderBy": false,
  "supportsDistinct": false,
  "supportsPagination": false
 },
 "spatialReference": {
  "wkid": 103050,
  "latestWkid": 6469
 }
}
