View In:
ArcGIS JavaScript
ArcGIS Online Map Viewer
ArcGIS Earth
ArcMap
View Footprint In:
ArcGIS Online Map Viewer
Service Description: Kx_Ss_Dakota_GMD3
Name: Kx_Ss_Dakota_GMD3
Description:
Single Fused Map Cache: false
Extent:
XMin: -395026.3598250821
YMin: 13267.31707841903
XMax: 397055.22264242615
YMax: 541321.7053900912
Spatial Reference: PROJCS["gmd3_albers_nad83",GEOGCS["GCS_North_American_1983",DATUM["D_North_American_1983",SPHEROID["GRS_1980",6378137.0,298.257222101]],PRIMEM["Greenwich",0.0],UNIT["Degree",0.0174532925199433]],PROJECTION["Albers"],PARAMETER["False_Easting",0.0],PARAMETER["False_Northing",0.0],PARAMETER["Central_Meridian",-100.7994444],PARAMETER["Standard_Parallel_1",37.31111111],PARAMETER["Standard_Parallel_2",37.94694444],PARAMETER["Latitude_Of_Origin",36.875],UNIT["Foot_US",0.3048006096012192]]
Initial Extent:
XMin: -395026.3598250821
YMin: 13267.31707841903
XMax: 397055.22264242615
YMax: 541321.7053900912
Spatial Reference: PROJCS["gmd3_albers_nad83",GEOGCS["GCS_North_American_1983",DATUM["D_North_American_1983",SPHEROID["GRS_1980",6378137.0,298.257222101]],PRIMEM["Greenwich",0.0],UNIT["Degree",0.0174532925199433]],PROJECTION["Albers"],PARAMETER["False_Easting",0.0],PARAMETER["False_Northing",0.0],PARAMETER["Central_Meridian",-100.7994444],PARAMETER["Standard_Parallel_1",37.31111111],PARAMETER["Standard_Parallel_2",37.94694444],PARAMETER["Latitude_Of_Origin",36.875],UNIT["Foot_US",0.3048006096012192]]
Full Extent:
XMin: -395026.3598250821
YMin: 13267.31707841903
XMax: 397055.22264242615
YMax: 541321.7053900912
Spatial Reference: PROJCS["gmd3_albers_nad83",GEOGCS["GCS_North_American_1983",DATUM["D_North_American_1983",SPHEROID["GRS_1980",6378137.0,298.257222101]],PRIMEM["Greenwich",0.0],UNIT["Degree",0.0174532925199433]],PROJECTION["Albers"],PARAMETER["False_Easting",0.0],PARAMETER["False_Northing",0.0],PARAMETER["Central_Meridian",-100.7994444],PARAMETER["Standard_Parallel_1",37.31111111],PARAMETER["Standard_Parallel_2",37.94694444],PARAMETER["Latitude_Of_Origin",36.875],UNIT["Foot_US",0.3048006096012192]]
Pixel Size X: 1508.7268237476349
Pixel Size Y: 1508.7268237476346
Band Count: 2
Pixel Type: F64
RasterFunction Infos: {"rasterFunctionInfos": [{
"name": "None",
"description": "",
"help": ""
}]}
Mensuration Capabilities: Basic
Has Histograms: true
Has Colormap: false
Has Multi Dimensions : false
Rendering Rule:
Min Scale: 0
Max Scale: 0
Copyright Text:
Service Data Type: esriImageServiceDataTypeGeneric
Min Values: 0.10000000149011612, 1.0E-8
Max Values: 20, 1.0E-6
Mean Values: 5.8515467031763615, 2.967137084102736E-7
Standard Deviation Values: 6.766880012792117, 3.5019888974541826E-7
Object ID Field:
Fields:
None
Default Mosaic Method: Center
Allowed Mosaic Methods:
SortField:
SortValue: null
Mosaic Operator: First
Default Compression Quality: 75
Default Resampling Method: Bilinear
Max Record Count: null
Max Image Height: 4100
Max Image Width: 15000
Max Download Image Count: null
Max Mosaic Image Count: null
Allow Raster Function: true
Allow Copy: true
Allow Analysis: true
Allow Compute TiePoints: false
Supports Statistics: false
Supports Advanced Queries: false
Use StandardizedQueries: true
Raster Type Infos:
Name: Raster Dataset
Description: Supports all ArcGIS Raster Datasets
Help:
Has Raster Attribute Table: false
Edit Fields Info: null
Ownership Based AccessControl For Rasters: null
Child Resources:
Info
Histograms
Statistics
Key Properties
Legend
Raster Function Infos
Supported Operations:
Export Image
Identify
Measure
Compute Histograms
Compute Statistics Histograms
Get Samples
Compute Class Statistics
Query Boundary
Compute Pixel Location
Compute Angles
Validate
Project