{
 "currentVersion": 10.91,
 "serviceDescription": "Kx_Ss_Dakota_GMD3",
 "name": "Kx_Ss_Dakota_GMD3",
 "description": "",
 "extent": {
  "xmin": -395026.3598250821,
  "ymin": 13267.31707841903,
  "xmax": 397055.22264242615,
  "ymax": 541321.7053900912,
  "spatialReference": {
   "wkt": "PROJCS[\"gmd3_albers_nad83\",GEOGCS[\"GCS_North_American_1983\",DATUM[\"D_North_American_1983\",SPHEROID[\"GRS_1980\",6378137.0,298.257222101]],PRIMEM[\"Greenwich\",0.0],UNIT[\"Degree\",0.0174532925199433]],PROJECTION[\"Albers\"],PARAMETER[\"False_Easting\",0.0],PARAMETER[\"False_Northing\",0.0],PARAMETER[\"Central_Meridian\",-100.7994444],PARAMETER[\"Standard_Parallel_1\",37.31111111],PARAMETER[\"Standard_Parallel_2\",37.94694444],PARAMETER[\"Latitude_Of_Origin\",36.875],UNIT[\"Foot_US\",0.3048006096012192]]"
  }
 },
 "initialExtent": {
  "xmin": -395026.3598250821,
  "ymin": 13267.31707841903,
  "xmax": 397055.22264242615,
  "ymax": 541321.7053900912,
  "spatialReference": {
   "wkt": "PROJCS[\"gmd3_albers_nad83\",GEOGCS[\"GCS_North_American_1983\",DATUM[\"D_North_American_1983\",SPHEROID[\"GRS_1980\",6378137.0,298.257222101]],PRIMEM[\"Greenwich\",0.0],UNIT[\"Degree\",0.0174532925199433]],PROJECTION[\"Albers\"],PARAMETER[\"False_Easting\",0.0],PARAMETER[\"False_Northing\",0.0],PARAMETER[\"Central_Meridian\",-100.7994444],PARAMETER[\"Standard_Parallel_1\",37.31111111],PARAMETER[\"Standard_Parallel_2\",37.94694444],PARAMETER[\"Latitude_Of_Origin\",36.875],UNIT[\"Foot_US\",0.3048006096012192]]"
  }
 },
 "fullExtent": {
  "xmin": -395026.3598250821,
  "ymin": 13267.31707841903,
  "xmax": 397055.22264242615,
  "ymax": 541321.7053900912,
  "spatialReference": {
   "wkt": "PROJCS[\"gmd3_albers_nad83\",GEOGCS[\"GCS_North_American_1983\",DATUM[\"D_North_American_1983\",SPHEROID[\"GRS_1980\",6378137.0,298.257222101]],PRIMEM[\"Greenwich\",0.0],UNIT[\"Degree\",0.0174532925199433]],PROJECTION[\"Albers\"],PARAMETER[\"False_Easting\",0.0],PARAMETER[\"False_Northing\",0.0],PARAMETER[\"Central_Meridian\",-100.7994444],PARAMETER[\"Standard_Parallel_1\",37.31111111],PARAMETER[\"Standard_Parallel_2\",37.94694444],PARAMETER[\"Latitude_Of_Origin\",36.875],UNIT[\"Foot_US\",0.3048006096012192]]"
  }
 },
 "hasMultidimensions": false,
 "pixelSizeX": 1508.7268237476349,
 "pixelSizeY": 1508.7268237476346,
 "datasetFormat": "FGDBR",
 "uncompressedSize": 2940000,
 "blockWidth": 128,
 "blockHeight": 128,
 "compressionType": "NONE",
 "bandNames": [
  "Band_1",
  "Band_2"
 ],
 "allowCopy": true,
 "allowAnalysis": true,
 "bandCount": 2,
 "pixelType": "F64",
 "minPixelSize": 0,
 "maxPixelSize": 0,
 "copyrightText": "",
 "serviceDataType": "esriImageServiceDataTypeGeneric",
 "serviceSourceType": "esriImageServiceSourceTypeDataset",
 "minValues": [
  0.10000000149011612,
  1.0E-8
 ],
 "maxValues": [
  20,
  1.0E-6
 ],
 "meanValues": [
  5.8515467031763615,
  2.967137084102736E-7
 ],
 "stdvValues": [
  6.766880012792117,
  3.5019888974541826E-7
 ],
 "objectIdField": "",
 "fields": [],
 "capabilities": "Image,Metadata,Mensuration",
 "defaultMosaicMethod": "Center",
 "allowedMosaicMethods": "",
 "sortField": "",
 "sortValue": null,
 "sortAscending": true,
 "mosaicOperator": "First",
 "defaultCompressionQuality": 75,
 "defaultResamplingMethod": "Bilinear",
 "maxImageHeight": 4100,
 "maxImageWidth": 15000,
 "allowRasterFunction": true,
 "rasterFunctionInfos": [
  {
   "name": "None",
   "description": "",
   "help": ""
  }
 ],
 "rasterTypeInfos": [
  {
   "name": "Raster Dataset",
   "description": "Supports all ArcGIS Raster Datasets",
   "help": ""
  }
 ],
 "mensurationCapabilities": "Basic",
 "hasHistograms": true,
 "hasColormap": false,
 "hasRasterAttributeTable": false,
 "minScale": 0,
 "maxScale": 0,
 "exportTilesAllowed": false,
 "supportsStatistics": false,
 "supportsAdvancedQueries": false,
 "editFieldsInfo": null,
 "ownershipBasedAccessControlForRasters": null,
 "allowComputeTiePoints": false,
 "useStandardizedQueries": true,
 "advancedQueryCapabilities": {
  "useStandardizedQueries": true,
  "supportsStatistics": false,
  "supportsOrderBy": false,
  "supportsDistinct": false,
  "supportsPagination": false
 },
 "spatialReference": {
  "wkt": "PROJCS[\"gmd3_albers_nad83\",GEOGCS[\"GCS_North_American_1983\",DATUM[\"D_North_American_1983\",SPHEROID[\"GRS_1980\",6378137.0,298.257222101]],PRIMEM[\"Greenwich\",0.0],UNIT[\"Degree\",0.0174532925199433]],PROJECTION[\"Albers\"],PARAMETER[\"False_Easting\",0.0],PARAMETER[\"False_Northing\",0.0],PARAMETER[\"Central_Meridian\",-100.7994444],PARAMETER[\"Standard_Parallel_1\",37.31111111],PARAMETER[\"Standard_Parallel_2\",37.94694444],PARAMETER[\"Latitude_Of_Origin\",36.875],UNIT[\"Foot_US\",0.3048006096012192]]"
 }
}
