View In:
ArcGIS JavaScript
ArcGIS Online Map Viewer
ArcGIS Earth
ArcMap
View Footprint In:
ArcGIS Online Map Viewer
Service Description: gmd2_krigRasterT_S_2026Final
Name: gmd2_krigRasterT_S_2026Final
Description:
Single Fused Map Cache: false
Extent:
XMin: 1348968.0001591444
YMin: 1543086.3615313172
XMax: 1705368.0001591444
YMax: 1989246.3615313172
Spatial Reference: 103050
(6469)
Initial Extent:
XMin: 1348968.0001591444
YMin: 1543086.3615313172
XMax: 1705368.0001591444
YMax: 1989246.3615313172
Spatial Reference: 103050
(6469)
Full Extent:
XMin: 1348968.0001591444
YMin: 1543086.3615313172
XMax: 1705368.0001591444
YMax: 1989246.3615313172
Spatial Reference: 103050
(6469)
Pixel Size X: 2640.0
Pixel Size Y: 2640.0
Band Count: 2
Pixel Type: F32
RasterFunction Infos: {"rasterFunctionInfos": [{
"name": "None",
"description": "",
"help": ""
}]}
Mensuration Capabilities: Basic
Has Histograms: true
Has Colormap: false
Has Multi Dimensions : false
Rendering Rule:
Min Scale: 0
Max Scale: 0
Copyright Text:
Service Data Type: esriImageServiceDataTypeGeneric
Min Values: 17.104528427124023, 3.0319372308440506E-4
Max Values: 55738.61328125, 0.16470645368099213
Mean Values: 9384.037689139148, 0.06137984472211357
Standard Deviation Values: 8033.4579693545365, 0.03217414682864521
Object ID Field:
Fields:
None
Default Mosaic Method: Center
Allowed Mosaic Methods:
SortField:
SortValue: null
Mosaic Operator: First
Default Compression Quality: 75
Default Resampling Method: Bilinear
Max Record Count: null
Max Image Height: 4100
Max Image Width: 15000
Max Download Image Count: null
Max Mosaic Image Count: null
Allow Raster Function: true
Allow Copy: true
Allow Analysis: true
Allow Compute TiePoints: false
Supports Statistics: false
Supports Advanced Queries: false
Use StandardizedQueries: true
Raster Type Infos:
Name: Raster Dataset
Description: Supports all ArcGIS Raster Datasets
Help:
Has Raster Attribute Table: false
Edit Fields Info: null
Ownership Based AccessControl For Rasters: null
Child Resources:
Info
Histograms
Statistics
Key Properties
Legend
Raster Function Infos
Supported Operations:
Export Image
Identify
Measure
Compute Histograms
Compute Statistics Histograms
Get Samples
Compute Class Statistics
Query Boundary
Compute Pixel Location
Compute Angles
Validate
Project