View In:
ArcGIS JavaScript
ArcGIS Online Map Viewer
ArcGIS Earth
ArcMap
View Footprint In:
ArcGIS Online Map Viewer
Service Description: gmd1_krigRasterT_S_2026Final
Name: gmd1_krigRasterT_S_2026Final
Description:
Single Fused Map Cache: false
Extent:
XMin: 293737.04796122015
YMin: 1870377.8942828923
XMax: 845497.0479612201
YMax: 2181897.8942828923
Spatial Reference: 103050
(6469)
Initial Extent:
XMin: 293737.04796122015
YMin: 1870377.8942828923
XMax: 845497.0479612201
YMax: 2181897.8942828923
Spatial Reference: 103050
(6469)
Full Extent:
XMin: 293737.04796122015
YMin: 1870377.8942828923
XMax: 845497.0479612201
YMax: 2181897.8942828923
Spatial Reference: 103050
(6469)
Pixel Size X: 2640.0
Pixel Size Y: 2640.0
Band Count: 2
Pixel Type: F32
RasterFunction Infos: {"rasterFunctionInfos": [{
"name": "None",
"description": "",
"help": ""
}]}
Mensuration Capabilities: Basic
Has Histograms: true
Has Colormap: false
Has Multi Dimensions : false
Rendering Rule:
Min Scale: 0
Max Scale: 0
Copyright Text:
Service Data Type: esriImageServiceDataTypeGeneric
Min Values: 4.381696701049805, 0.055052872747182846
Max Values: 47650.21875, 0.2400854229927063
Mean Values: 2028.1269167685755, 0.14020435226793512
Standard Deviation Values: 3984.663676632778, 0.043936971999894804
Object ID Field:
Fields:
None
Default Mosaic Method: Center
Allowed Mosaic Methods:
SortField:
SortValue: null
Mosaic Operator: First
Default Compression Quality: 75
Default Resampling Method: Bilinear
Max Record Count: null
Max Image Height: 4100
Max Image Width: 15000
Max Download Image Count: null
Max Mosaic Image Count: null
Allow Raster Function: true
Allow Copy: true
Allow Analysis: true
Allow Compute TiePoints: false
Supports Statistics: false
Supports Advanced Queries: false
Use StandardizedQueries: true
Raster Type Infos:
Name: Raster Dataset
Description: Supports all ArcGIS Raster Datasets
Help:
Has Raster Attribute Table: false
Edit Fields Info: null
Ownership Based AccessControl For Rasters: null
Child Resources:
Info
Histograms
Statistics
Key Properties
Legend
Raster Function Infos
Supported Operations:
Export Image
Identify
Measure
Compute Histograms
Compute Statistics Histograms
Get Samples
Compute Class Statistics
Query Boundary
Compute Pixel Location
Compute Angles
Validate
Project