View In:
ArcGIS JavaScript
ArcGIS Online Map Viewer
ArcGIS Earth
ArcMap
View Footprint In:
ArcGIS Online Map Viewer
Service Description: Kx_Sy_GMD5
Name: Kx_Sy_GMD5
Description:
Single Fused Map Cache: false
Extent:
XMin: 595941.3756379634
YMin: 1573729.9954538941
XMax: 1477701.3756379634
YMax: 2043649.9954538941
Spatial Reference: 103050
(6469)
Initial Extent:
XMin: 595941.3756379634
YMin: 1573729.9954538941
XMax: 1477701.3756379634
YMax: 2043649.9954538941
Spatial Reference: 103050
(6469)
Full Extent:
XMin: 595941.3756379634
YMin: 1573729.9954538941
XMax: 1477701.3756379634
YMax: 2043649.9954538941
Spatial Reference: 103050
(6469)
Pixel Size X: 2640.0
Pixel Size Y: 2640.0
Band Count: 2
Pixel Type: F64
RasterFunction Infos: {"rasterFunctionInfos": [{
"name": "None",
"description": "",
"help": ""
}]}
Mensuration Capabilities: Basic
Has Histograms: true
Has Colormap: false
Has Multi Dimensions : false
Rendering Rule:
Min Scale: 0
Max Scale: 0
Copyright Text:
Service Data Type: esriImageServiceDataTypeGeneric
Min Values: 79.74617004394531, 0.2
Max Values: 312.11822509765625, 0.2
Mean Values: 150.72868420912425, 0.19999999999999998
Standard Deviation Values: 40.714341650195365, 0
Object ID Field:
Fields:
None
Default Mosaic Method: Center
Allowed Mosaic Methods:
SortField:
SortValue: null
Mosaic Operator: First
Default Compression Quality: 75
Default Resampling Method: Bilinear
Max Record Count: null
Max Image Height: 4100
Max Image Width: 15000
Max Download Image Count: null
Max Mosaic Image Count: null
Allow Raster Function: true
Allow Copy: true
Allow Analysis: true
Allow Compute TiePoints: false
Supports Statistics: false
Supports Advanced Queries: false
Use StandardizedQueries: true
Raster Type Infos:
Name: Raster Dataset
Description: Supports all ArcGIS Raster Datasets
Help:
Has Raster Attribute Table: false
Edit Fields Info: null
Ownership Based AccessControl For Rasters: null
Child Resources:
Info
Histograms
Statistics
Key Properties
Legend
Raster Function Infos
Supported Operations:
Export Image
Identify
Measure
Compute Histograms
Compute Statistics Histograms
Get Samples
Compute Class Statistics
Query Boundary
Compute Pixel Location
Compute Angles
Validate
Project