{
 "currentVersion": 10.91,
 "serviceDescription": "Kx_Sy_GMD2",
 "name": "Kx_Sy_GMD2",
 "description": "",
 "extent": {
  "xmin": 1348964.57431297,
  "ymin": 1543086.3615313172,
  "xmax": 1705364.57431297,
  "ymax": 1989246.3615313172,
  "spatialReference": {
   "wkid": 103050,
   "latestWkid": 6469
  }
 },
 "initialExtent": {
  "xmin": 1348964.57431297,
  "ymin": 1543086.3615313172,
  "xmax": 1705364.57431297,
  "ymax": 1989246.3615313172,
  "spatialReference": {
   "wkid": 103050,
   "latestWkid": 6469
  }
 },
 "fullExtent": {
  "xmin": 1348964.57431297,
  "ymin": 1543086.3615313172,
  "xmax": 1705364.57431297,
  "ymax": 1989246.3615313172,
  "spatialReference": {
   "wkid": 103050,
   "latestWkid": 6469
  }
 },
 "hasMultidimensions": false,
 "pixelSizeX": 2640,
 "pixelSizeY": 2640,
 "datasetFormat": "FGDBR",
 "uncompressedSize": 182520,
 "blockWidth": 128,
 "blockHeight": 128,
 "compressionType": "NONE",
 "bandNames": [
  "Band_1",
  "Band_2"
 ],
 "allowCopy": true,
 "allowAnalysis": true,
 "bandCount": 2,
 "pixelType": "F32",
 "minPixelSize": 0,
 "maxPixelSize": 0,
 "copyrightText": "",
 "serviceDataType": "esriImageServiceDataTypeGeneric",
 "serviceSourceType": "esriImageServiceSourceTypeDataset",
 "minValues": [
  0.0034492160193622112,
  5.243737541604787E-5
 ],
 "maxValues": [
  337.5556945800781,
  0.164027139544487
 ],
 "meanValues": [
  114.03373951175466,
  0.05534170358663004
 ],
 "stdvValues": [
  69.41434296973108,
  0.03318895168981182
 ],
 "objectIdField": "",
 "fields": [],
 "capabilities": "Image,Metadata,Mensuration",
 "defaultMosaicMethod": "Center",
 "allowedMosaicMethods": "",
 "sortField": "",
 "sortValue": null,
 "sortAscending": true,
 "mosaicOperator": "First",
 "defaultCompressionQuality": 75,
 "defaultResamplingMethod": "Bilinear",
 "maxImageHeight": 4100,
 "maxImageWidth": 15000,
 "allowRasterFunction": true,
 "rasterFunctionInfos": [
  {
   "name": "None",
   "description": "",
   "help": ""
  }
 ],
 "rasterTypeInfos": [
  {
   "name": "Raster Dataset",
   "description": "Supports all ArcGIS Raster Datasets",
   "help": ""
  }
 ],
 "mensurationCapabilities": "Basic",
 "hasHistograms": true,
 "hasColormap": false,
 "hasRasterAttributeTable": false,
 "minScale": 0,
 "maxScale": 0,
 "exportTilesAllowed": false,
 "supportsStatistics": false,
 "supportsAdvancedQueries": false,
 "editFieldsInfo": null,
 "ownershipBasedAccessControlForRasters": null,
 "allowComputeTiePoints": false,
 "useStandardizedQueries": true,
 "advancedQueryCapabilities": {
  "useStandardizedQueries": true,
  "supportsStatistics": false,
  "supportsOrderBy": false,
  "supportsDistinct": false,
  "supportsPagination": false
 },
 "spatialReference": {
  "wkid": 103050,
  "latestWkid": 6469
 }
}
